BEGIN:VCALENDAR
VERSION:2.0
PRODID:-//FSSPX Slovenija - ECPv6.7.0//NONSGML v1.0//EN
CALSCALE:GREGORIAN
METHOD:PUBLISH
X-ORIGINAL-URL:https://fsspx.si
X-WR-CALDESC:Events for FSSPX Slovenija
REFRESH-INTERVAL;VALUE=DURATION:PT1H
X-Robots-Tag:noindex
X-PUBLISHED-TTL:PT1H
BEGIN:VTIMEZONE
TZID:Europe/Ljubljana
BEGIN:DAYLIGHT
TZOFFSETFROM:+0100
TZOFFSETTO:+0200
TZNAME:CEST
DTSTART:20260329T010000
END:DAYLIGHT
BEGIN:STANDARD
TZOFFSETFROM:+0200
TZOFFSETTO:+0100
TZNAME:CET
DTSTART:20261025T010000
END:STANDARD
END:VTIMEZONE
BEGIN:VEVENT
DTSTART;TZID=Europe/Ljubljana:20260620T000000
DTEND;TZID=Europe/Ljubljana:20260625T235959
DTSTAMP:20260422T231945
CREATED:20260313T190513Z
LAST-MODIFIED:20260313T191058Z
UID:7064-1781913600-1782431999@fsspx.si
SUMMARY:Oratorij 2026
DESCRIPTION:Dragi verniki\,  \n\n\n\nz veseljem sporočamo\, da bomo letos zopet imeli možnost 5-dnevnega oratorija za otroke\, ki bo potekal v Jaidhofu pod mojim duhovnim vodstvom in pod tehničnim ter strokovnim vodstvom ge. Tine Krpan. Srčno vabim\, da prijavite svoje otroke\, če bi kdo ne mogel slučajno plačati prijavnine\, bomo pokrili mi – supplet Ecclesia! Bilo bi lepo\, da je število otrok iz Slovenije dovolj veliko\, da bi zanje lahko imel tudi kaj posebej v slovenščini\, ker se bodo sicer za delavnice in igre že znašli\, bolj je važno\, da lahko potem imam kateheze\, pridige in nagovore v obeh jezikih. Kot je razvidno\, lahko prijavite otroke\, stare med 7 in 16 let\, kjer bi ti starejši lahko pomagali pri določenih stvareh in se tako že uvajali za bolj odgovorne naloge v prihodnosti.  \n\n\n\nPozdrav v Gospodu. \n\n\n\np. Andrej Vončina 
URL:https://fsspx.si/event/oratorij-2026/
ATTACH;FMTTYPE=image/jpeg:https://fsspx.si/wp-content/uploads/2026/03/Oratorij-FSSPX-2025-SLO.jpg-1.jpg
END:VEVENT
END:VCALENDAR